BEGIN:VCALENDAR
VERSION:2.0
PRODID:-//ELAV srl - ECPv6.8.1//NONSGML v1.0//EN
CALSCALE:GREGORIAN
METHOD:PUBLISH
X-WR-CALNAME:ELAV srl
X-ORIGINAL-URL:https://www.elav.eu
X-WR-CALDESC:Eventi per ELAV srl
REFRESH-INTERVAL;VALUE=DURATION:PT1H
X-Robots-Tag:noindex
X-PUBLISHED-TTL:PT1H
BEGIN:VTIMEZONE
TZID:Europe/Rome
BEGIN:DAYLIGHT
TZOFFSETFROM:+0100
TZOFFSETTO:+0200
TZNAME:CEST
DTSTART:20240331T010000
END:DAYLIGHT
BEGIN:STANDARD
TZOFFSETFROM:+0200
TZOFFSETTO:+0100
TZNAME:CET
DTSTART:20241027T010000
END:STANDARD
BEGIN:DAYLIGHT
TZOFFSETFROM:+0100
TZOFFSETTO:+0200
TZNAME:CEST
DTSTART:20250330T010000
END:DAYLIGHT
BEGIN:STANDARD
TZOFFSETFROM:+0200
TZOFFSETTO:+0100
TZNAME:CET
DTSTART:20251026T010000
END:STANDARD
END:VTIMEZONE
BEGIN:VEVENT
DTSTART;TZID=Europe/Rome:20251122T103000
DTEND;TZID=Europe/Rome:20251123T170000
DTSTAMP:20260423T094237
CREATED:20250923T080258Z
LAST-MODIFIED:20250923T165419Z
UID:36513-1763807400-1763917200@www.elav.eu
SUMMARY:BeLONGEVITY Professional Convention 2025
DESCRIPTION:22-23 Novembre 2025 | 2 giorni intensivi dedicati ai Professionisti della Longevità\n\n\n\nBeLONGEVITY Professional Convention è un evento unico nel suo genere\, progettato per offrire ai professionisti un accesso privilegiato alle più avanzate conoscenze scientifiche e pratiche applicabili nel settore della Longevità. \nL’obiettivo è chiaro: trasformare le competenze dei professionisti in un vantaggio competitivo concreto\, permettendo loro di diventare protagonisti del nuovo paradigma della longevità attiva\, preventiva e performante\, sempre più richiesto da una popolazione che cerca salute e qualità di vita durature. \n\n\nISCRIVITI\n  \n 
URL:https://www.elav.eu/evento/belongevity-professional-convention-2025/
LOCATION:Palazzo Bufalini\, Piazza Matteotti 2\, 06012\, Città di Castello\, Perugia
CATEGORIES:BeLONGEVITY,Fitness,Homepage,Medical
ATTACH;FMTTYPE=image/jpeg:https://www.elav.eu/wp-content/uploads/2025/09/Donna-1.jpg
END:VEVENT
BEGIN:VEVENT
DTSTART;TZID=Europe/Rome:20241130T090000
DTEND;TZID=Europe/Rome:20241201T180000
DTSTAMP:20260423T094237
CREATED:20241124T172101Z
LAST-MODIFIED:20241125T115025Z
UID:20567-1732957200-1733076000@www.elav.eu
SUMMARY:BeLONGEVITY Convention 2024
DESCRIPTION:2 Giorni intensivi dedicati alla longevità\n\n\nPer prendere il controllo della propria biologia e cambiare la propria vita grazie all’applicazione integrata\, intelligente e facile\, delle più evolute scoperte scientifiche.\n\n  \nSCOPRI TUTTO\n  \n 
URL:https://www.elav.eu/evento/belongevity-convention-2024/
LOCATION:Hotel Sheraton Parco de Medici\, via Salvatore Rebecchini 135\, 00148\, Roma
CATEGORIES:Fitness,Medical
ATTACH;FMTTYPE=image/png:https://www.elav.eu/wp-content/uploads/2024/11/Senza-titolo-1.png
END:VEVENT
END:VCALENDAR